BEGIN:VCALENDAR
VERSION:2.0
PRODID:-//Day Murray Music - ECPv6.0.12//NONSGML v1.0//EN
CALSCALE:GREGORIAN
METHOD:PUBLISH
X-WR-CALNAME:Day Murray Music
X-ORIGINAL-URL:https://www.daymurraymusic.com
X-WR-CALDESC:Events for Day Murray Music
REFRESH-INTERVAL;VALUE=DURATION:PT1H
X-Robots-Tag:noindex
X-PUBLISHED-TTL:PT1H
BEGIN:VTIMEZONE
TZID:America/Denver
BEGIN:DAYLIGHT
TZOFFSETFROM:-0700
TZOFFSETTO:-0600
TZNAME:MDT
DTSTART:20230312T090000
END:DAYLIGHT
BEGIN:STANDARD
TZOFFSETFROM:-0600
TZOFFSETTO:-0700
TZNAME:MST
DTSTART:20231105T080000
END:STANDARD
END:VTIMEZONE
BEGIN:VEVENT
DTSTART;VALUE=DATE:20230616
DTEND;VALUE=DATE:20230618
DTSTAMP:20260420T054027
CREATED:20230507T203711Z
LAST-MODIFIED:20230509T030328Z
UID:7181-1686873600-1687046399@www.daymurraymusic.com
SUMMARY:2023 Christmas Choral Review
DESCRIPTION:Day Murray Music presents \nChristmas Choral Review\nFriday\, June 16\, 2023 – 1:00 PM to 2:30 PM \nAND  \nSaturday\, June 17\, 2023 – 10:00 AM to 11:30 AM \n  \nPrice \n\n$22 (plus tax) per packet \n\nRegular retail price: $37.50\nSavings over $15.00!\n\n\nTo participate in person\, a packet must pre-purchased. Attendees may purchase a packet to share with others in their group (i.e.\, a choir director and accompanist may purchase a single packet to share during the review).\nThe review will also be streamed via Facebook Live in the Day Murray Music Choral Review group. \n\nwww.facebook.com/groups/dmmchoralreviews\n\n\nPackets can also be mailed (postage and handling will apply). \n\nClick here to purchase a packet!\nSynopsis \n\nWe will sing through more than a dozen new and beloved Christmas choral anthems.\n\n  \nFeatured Music \nFeatured music will include SAB\, SSAA\, and SATB voicings including a yet-to-be-published title by Ryan Murphy! (It will debut here in Murray\, Utah!) Also featured will be music by Utah’s own Dan Carter\, Brent Jorgensen\, and Mack Wilberg and outstanding medleys suitable as “program openers” arranged by Victor Johnson and Brad Nix. We will sing anthems that include your congregation\, soloists\, and children’s voices by John Leavitt\, Lee Dengler\, and more! We will also enjoy an Elaine Hagenberg favorite and a new Marianne Forman piece. (Due to availability or publishing delays\, titles are subject to change without notice.)  \n  \nThere will be music for small choirs\, large choirs\, and everything in between including lullabies and “songs of the angels”.  \n  \nParking  \nPlease park in the fenced-in lot on the west side of Day Murray Music (between The Ballet Center and Wells Fargo) or in the lot on the north side of The Ballet Center. (See the parking map on the reverse side.) \nDay Murray Music \n4914 S. State Street \nMurray\, Utah 84107 \n(801) 266-3537 \n  \nBy participating in the choral review\, you consent to be added to Day Murray Music’s email list.  \n  \nParking Map
URL:https://www.daymurraymusic.com/event/2023-christmas-choral-review/
LOCATION:Day Murray Music Education House\, 4914 South State Street\, Murray\, UT\, 84107\, United States
ORGANIZER;CN="Day%20Murray%20Music":MAILTO:daymurraymusic@gmail.com
END:VEVENT
END:VCALENDAR