BEGIN:VCALENDAR
VERSION:2.0
PRODID:-//Day Murray Music - ECPv6.0.12//NONSGML v1.0//EN
CALSCALE:GREGORIAN
METHOD:PUBLISH
X-WR-CALNAME:Day Murray Music
X-ORIGINAL-URL:https://www.daymurraymusic.com
X-WR-CALDESC:Events for Day Murray Music
REFRESH-INTERVAL;VALUE=DURATION:PT1H
X-Robots-Tag:noindex
X-PUBLISHED-TTL:PT1H
BEGIN:VTIMEZONE
TZID:America/Denver
BEGIN:DAYLIGHT
TZOFFSETFROM:-0700
TZOFFSETTO:-0600
TZNAME:MDT
DTSTART:20180311T090000
END:DAYLIGHT
BEGIN:STANDARD
TZOFFSETFROM:-0600
TZOFFSETTO:-0700
TZNAME:MST
DTSTART:20181104T080000
END:STANDARD
END:VTIMEZONE
BEGIN:VEVENT
DTSTART;TZID=America/Denver:20180728T130000
DTEND;TZID=America/Denver:20180728T150000
DTSTAMP:20260419T174646
CREATED:20180707T200537Z
LAST-MODIFIED:20190920T172441Z
UID:546-1532782800-1532790000@www.daymurraymusic.com
SUMMARY:Christmas in July
DESCRIPTION:Choral review and music workshop with Ben Winkler and Hawthorne House Publishing
URL:https://www.daymurraymusic.com/event/christmas-in-july/
LOCATION:Day Murray Music Education House\, 4914 South State Street\, Murray\, UT\, 84107\, United States
CATEGORIES:Workshops
ORGANIZER;CN="Day%20Murray%20Music":MAILTO:daymurraymusic@gmail.com
END:VEVENT
END:VCALENDAR