BEGIN:VCALENDAR
VERSION:2.0
PRODID:-//Day Murray Music - ECPv6.0.12//NONSGML v1.0//EN
CALSCALE:GREGORIAN
METHOD:PUBLISH
X-WR-CALNAME:Day Murray Music
X-ORIGINAL-URL:https://www.daymurraymusic.com
X-WR-CALDESC:Events for Day Murray Music
REFRESH-INTERVAL;VALUE=DURATION:PT1H
X-Robots-Tag:noindex
X-PUBLISHED-TTL:PT1H
BEGIN:VTIMEZONE
TZID:America/Denver
BEGIN:DAYLIGHT
TZOFFSETFROM:-0700
TZOFFSETTO:-0600
TZNAME:MDT
DTSTART:20240310T090000
END:DAYLIGHT
BEGIN:STANDARD
TZOFFSETFROM:-0600
TZOFFSETTO:-0700
TZNAME:MST
DTSTART:20241103T080000
END:STANDARD
BEGIN:DAYLIGHT
TZOFFSETFROM:-0700
TZOFFSETTO:-0600
TZNAME:MDT
DTSTART:20250309T090000
END:DAYLIGHT
BEGIN:STANDARD
TZOFFSETFROM:-0600
TZOFFSETTO:-0700
TZNAME:MST
DTSTART:20251102T080000
END:STANDARD
BEGIN:DAYLIGHT
TZOFFSETFROM:-0700
TZOFFSETTO:-0600
TZNAME:MDT
DTSTART:20260308T090000
END:DAYLIGHT
BEGIN:STANDARD
TZOFFSETFROM:-0600
TZOFFSETTO:-0700
TZNAME:MST
DTSTART:20261101T080000
END:STANDARD
END:VTIMEZONE
BEGIN:VEVENT
DTSTART;TZID=America/Denver:20240119T100000
DTEND;TZID=America/Denver:20240119T120000
DTSTAMP:20260419T232229
CREATED:20231217T220431Z
LAST-MODIFIED:20231220T021736Z
UID:7942-1705658400-1705665600@www.daymurraymusic.com
SUMMARY:Barbara Gill Singing Time Music Workshop - Friday\, January 19\, 2024
DESCRIPTION:Day Murray Music presents \nBarbara Gill\nSinging Time Music Workshop \nCome\, Follow Me: Book of Mormon\nFriday\, January 19\, 2024  OR  Saturday\, January 20\, 2024 \n10:00 AM to 12:00 PM \nTo register\, please click your preferred date above. \n  \nPrice \n\n$12 per person (in-person or Facebook Live)\n\n* Enrollment for Facebook Live will be closed at 10 PM the night before the workshop. Please register with the same email you use for Facebook. Facebook Live participants will be emailed a link to the Facebook group page; the participant will need to join the group. Please join the group before the workshop so our staff will have ample time to approve the request if necessary.  \n  \nWorkshop Synopsis \n\nLearn technique and tips from seasoned music leader and clinician Barbara Gill to make singing time simply magical and musical. \nBring your Children’s Songbook.\nDoor prizes for in-person attendees!\n\n  \nParking  \nPlease park in the fenced-in lot on the west side of Day Murray Music (between The Ballet Center and Wells Fargo) or in the lot on the north side of The Ballet Center. (See the parking map on the reverse side.) \n  \nBio \nBarbara Gill’s vast experience teaching children music spans more than 20 years! After seeing her in action during Primary singing time\, her school community asked her to continue the before-school choir at the elementary. Since 2015\, Barbara has directed the Orchard Children’s Choir. This year she is also a co-conductor with the Utah Youth Singers in Bountiful\, Utah. Barbara is certified through level 1 of Kodaly training for children’s choirs and will continue this summer and next with the remaining levels. \n  \nShe maintains an active piano and Let’s Play Music studio. Barbara has a Bachelor of Music in Piano Performance and a Master of Arts in Musicology from the University of Utah. In church music\, Barbara has been the Primary Music Leader multiple times\, Stake Primary Music Chairman\, Stake Music Chairman\, a committee member for a multi-stake music workshop\, and many more callings that brought unexpected joy! Barbara and her husband live in North Salt Lake and have three boys and a girl named after a concert hall. Visit GillPianoStudio.com for more information. \n  \nBy enrolling in this workshop\, you agree to allow Day Murray Music to share your contact information with Barbara Gill.  \n \n  \nScan the code to sign up online. \n  \n  \n\nParking Map
URL:https://www.daymurraymusic.com/event/barbara-gill-singing-time-music-workshop-friday-january-19-2024/
LOCATION:Day Murray Music Education House\, 4914 South State Street\, Murray\, UT\, 84107\, United States
CATEGORIES:Workshops
END:VEVENT
BEGIN:VEVENT
DTSTART;TZID=America/Denver:20240120T100000
DTEND;TZID=America/Denver:20240120T120000
DTSTAMP:20260419T232229
CREATED:20231217T222224Z
LAST-MODIFIED:20231220T021715Z
UID:7945-1705744800-1705752000@www.daymurraymusic.com
SUMMARY:Barbara Gill Singing Time Music Workshop - Saturday\, January 20\, 2024
DESCRIPTION:Day Murray Music presents \nBarbara Gill\nSinging Time Music Workshop \nCome\, Follow Me: Book of Mormon\nFriday\, January 19\, 2024  OR  Saturday\, January 20\, 2024 \n10:00 AM to 12:00 PM \nTo register\, please click your preferred date above. \n  \nPrice \n\n$12 per person (in-person or Facebook Live)\n\n* Enrollment for Facebook Live will be closed at 10 PM the night before the workshop. Please register with the same email you use for Facebook. Facebook Live participants will be emailed a link to the Facebook group page; the participant will need to join the group. Please join the group before the workshop so our staff will have ample time to approve the request if necessary.  \n  \nWorkshop Synopsis \n\nLearn technique and tips from seasoned music leader and clinician Barbara Gill to make singing time simply magical and musical. \nBring your Children’s Songbook.\nDoor prizes for in-person attendees!\n\n  \nParking  \nPlease park in the fenced-in lot on the west side of Day Murray Music (between The Ballet Center and Wells Fargo) or in the lot on the north side of The Ballet Center. (See the parking map on the reverse side.) \n  \nBio \nBarbara Gill’s vast experience teaching children music spans more than 20 years! After seeing her in action during Primary singing time\, her school community asked her to continue the before-school choir at the elementary. Since 2015\, Barbara has directed the Orchard Children’s Choir. This year she is also a co-conductor with the Utah Youth Singers in Bountiful\, Utah. Barbara is certified through level 1 of Kodaly training for children’s choirs and will continue this summer and next with the remaining levels. \n  \nShe maintains an active piano and Let’s Play Music studio. Barbara has a Bachelor of Music in Piano Performance and a Master of Arts in Musicology from the University of Utah. In church music\, Barbara has been the Primary Music Leader multiple times\, Stake Primary Music Chairman\, Stake Music Chairman\, a committee member for a multi-stake music workshop\, and many more callings that brought unexpected joy! Barbara and her husband live in North Salt Lake and have three boys and a girl named after a concert hall. Visit GillPianoStudio.com for more information. \n  \nBy enrolling in this workshop\, you agree to allow Day Murray Music to share your contact information with Barbara Gill.  \n \n  \nScan the code to sign up online. \n  \n  \n\nParking Map
URL:https://www.daymurraymusic.com/event/barbara-gill-singing-time-music-workshop-saturday-january-20-2024/
LOCATION:Day Murray Music Education House\, 4914 South State Street\, Murray\, UT\, 84107\, United States
CATEGORIES:Workshops
END:VEVENT
BEGIN:VEVENT
DTSTART;VALUE=DATE:20240712
DTEND;VALUE=DATE:20240714
DTSTAMP:20260419T232229
CREATED:20240616T214852Z
LAST-MODIFIED:20240617T002559Z
UID:8810-1720742400-1720915199@www.daymurraymusic.com
SUMMARY:2024 Christmas Choral Review
DESCRIPTION:Day Murray Music presents \nCHRISTMAS CHORAL REVIEW\nFriday\, July 12\, 2024  – 1:00 PM to 2:30 PM \nAND  \nSaturday\, July 13\, 2024 – 10:30 AM to 12:00 PM \n  \nPrice \n\n$22 (plus tax) per packet \n\nRegular retail price: $39.00\nSavings over $17.00!\n\n\nTo participate in person\, a packet must be pre-purchased. Attendees may purchase a packet to share with others in their group (i.e.\, a choir director and accompanist may purchase one packet to share during the review).\nThe review will also be streamed via Facebook Live in the Day Murray Music Choral Review group. \n\nwww.facebook.com/groups/dmmchoralreviews\n\n\nPackets can also be mailed (postage and handling will apply). \n\nClick here to purchase a packet!\nSynopsis \n\nWe will sing through more than a dozen new and beloved Christmas choral anthems.\n\n  \nFeatured Music \nFeatured music will include SATB voicings arranged by Trevor Mann\, Cameron Rose\, John Rutter\, Mary McDonald\, and Brent Jorgensen.  (Due to availability or publishing delays\, titles are subject to change without notice.)  \n  \nParking  \nPlease park in the fenced-in lot on the west side of Day Murray Music (between The Ballet Center and Wells Fargo) or in the lot on the north side of The Ballet Center. (See the parking map on the reverse side.) \nDay Murray Music \n4914 S. State Street \nMurray\, Utah 84107 \n(801) 266-3537 \n  \nBy participating in the choral review\, you consent to be added to Day Murray Music’s email list.  \n  \nParking Map \n \n 
URL:https://www.daymurraymusic.com/event/2024-christmas-choral-review/
LOCATION:Day Murray Music Education House\, 4914 South State Street\, Murray\, UT\, 84107\, United States
ORGANIZER;CN="Day%20Murray%20Music":MAILTO:daymurraymusic@gmail.com
END:VEVENT
BEGIN:VEVENT
DTSTART;TZID=America/Denver:20250117T100000
DTEND;TZID=America/Denver:20250117T120000
DTSTAMP:20260419T232229
CREATED:20250113T173335Z
LAST-MODIFIED:20250116T195640Z
UID:9877-1737108000-1737115200@www.daymurraymusic.com
SUMMARY:Singing Time Music Workshop\, By Barbara Gill
DESCRIPTION:January 17 or 18\, 10am-Noon at Day Murray Music\nWorkshop Synopsis:\nLearn techniques and tips from seasoned music leader and clinician Barbara Gill (BM\, MA\, NCTM) to make singing time simply magical and musical. \nIn-person or Facebook Live \nFor the Facebook Live Option:\nRegister with the same email you have linked to your facebook account. To view the workshop on Facebook Live\, please register before 10 pm the previous day. \n  \nPurchase tickets at https://www.sheetmusicauthority.com/product/singing-time-music-workshop/
URL:https://www.daymurraymusic.com/event/singing-time-music-workshop-by-barbara-gill/
LOCATION:Day Murray Music Education House\, 4914 South State Street\, Murray\, UT\, 84107\, United States
CATEGORIES:Workshops
ATTACH;FMTTYPE=image/png:https://www.daymurraymusic.com/wp-content/uploads/2025/01/Primary-Workshop.png
END:VEVENT
BEGIN:VEVENT
DTSTART;TZID=America/Denver:20250118T100000
DTEND;TZID=America/Denver:20250118T120000
DTSTAMP:20260419T232229
CREATED:20250113T173746Z
LAST-MODIFIED:20250116T195719Z
UID:9879-1737194400-1737201600@www.daymurraymusic.com
SUMMARY:Singing Time Music Workshop\, By Barbara Gill
DESCRIPTION:January 17 or 18\, 10am-Noon at Day Murray Music\nWorkshop Synopsis:\nLearn techniques and tips from seasoned music leader and clinician Barbara Gill (BM\, MA\, NCTM) to make singing time simply magical and musical. \nIn-person or Facebook Live \nFor the Facebook Live Option:\nRegister with the same email you have linked to your facebook account. To view the workshop on Facebook Live\, please register before 10 pm the previous day. \nPurchase tickets at https://www.sheetmusicauthority.com/product/singing-time-music-workshop/
URL:https://www.daymurraymusic.com/event/singing-time-music-workshop-by-barbara-gill-2/
LOCATION:Day Murray Music Education House\, 4914 South State Street\, Murray\, UT\, 84107\, United States
CATEGORIES:Workshops
ATTACH;FMTTYPE=image/png:https://www.daymurraymusic.com/wp-content/uploads/2025/01/Primary-Workshop.png
END:VEVENT
BEGIN:VEVENT
DTSTART;TZID=America/Denver:20250321T190000
DTEND;TZID=America/Denver:20250321T210000
DTSTAMP:20260419T232229
CREATED:20250314T175630Z
LAST-MODIFIED:20250314T190640Z
UID:10211-1742583600-1742590800@www.daymurraymusic.com
SUMMARY:Concert - Lamb of God - Draper Philharmonic
DESCRIPTION:  \nA sacred choral & orchestral work depicting the final days of the Savior\, Jesus Christ\, as seen through the eyes of those who knew Him. \nFriday\, March 21\, 2025\n7:00 PM  9:00 PM \nCorner Canyon High School Performing Arts Auditorium\n12943 South 700 East\nDraper\, UT 84020
URL:https://www.daymurraymusic.com/event/concert-lamb-of-god-draper-philharmonic/
LOCATION:UT
CATEGORIES:Concerts
ATTACH;FMTTYPE=image/jpeg:https://www.daymurraymusic.com/wp-content/uploads/2025/03/LambOfGod_2025_Concert_Pg.jpg
END:VEVENT
BEGIN:VEVENT
DTSTART;TZID=America/Denver:20250322T070000
DTEND;TZID=America/Denver:20250322T210000
DTSTAMP:20260419T232229
CREATED:20250314T190244Z
LAST-MODIFIED:20250314T190610Z
UID:10214-1742626800-1742677200@www.daymurraymusic.com
SUMMARY:Concert - Lamb of God - Draper Philharmonic
DESCRIPTION:A sacred choral & orchestral work depicting the final days of the Savior\, Jesus Christ\, as seen through the eyes of those who knew Him. \nSaturday\, March 22\, 2025\n7:00 PM  9:00 PM \nCorner Canyon High School Performing Arts Auditorium\n12943 South 700 East\nDraper\, UT 84020
URL:https://www.daymurraymusic.com/event/concert-lamb-of-god-draper-philharmonic-2/
LOCATION:UT
ATTACH;FMTTYPE=image/jpeg:https://www.daymurraymusic.com/wp-content/uploads/2025/03/LambOfGod_2025_Concert_Pg.jpg
END:VEVENT
BEGIN:VEVENT
DTSTART;TZID=America/Denver:20250517T110000
DTEND;TZID=America/Denver:20250517T160000
DTSTAMP:20260419T232229
CREATED:20250419T172553Z
LAST-MODIFIED:20250419T172553Z
UID:10413-1747479600-1747497600@www.daymurraymusic.com
SUMMARY:Ukulele Workshop - Salt Lake Strummers
DESCRIPTION:Register at SaltLakeStrummers.org \n3 Separate workshops in one day! \n\nImprove your strumming\nLearn how to fingerpick through chord progressions\nTurn your ukulele into a drum set\n\n6876 South Highland Drive (Home of SVUUS) \nSaturday May 17th from 1100AM to 400PM
URL:https://www.daymurraymusic.com/event/ukulele-workshop/
LOCATION:UT
ATTACH;FMTTYPE=image/jpeg:https://www.daymurraymusic.com/wp-content/uploads/2025/04/uke-shop.jpg
END:VEVENT
BEGIN:VEVENT
DTSTART;TZID=America/Denver:20250620T130000
DTEND;TZID=America/Denver:20250620T143000
DTSTAMP:20260419T232229
CREATED:20250521T202810Z
LAST-MODIFIED:20250522T190411Z
UID:10534-1750424400-1750429800@www.daymurraymusic.com
SUMMARY:Friday\, June 20\, 2025 - Summer Choral Review
DESCRIPTION:Day Murray Music presents \nSUMMER CHORAL REVIEW\nFeaturing Bonita Cross and Laurel Palmer!\nFriday\, June 20\, 2025  – 1:00 PM to 2:30 PM \nAND  \nSaturday\, June 21\, 2025 – 10:30 AM to 12:00 PM \n  \n  \nPrice \n\n$22 (plus tax) per packet \n\nRegular retail price: $40.00\nSavings over $18.00!\n\n\nTo participate in person\, a packet must be pre-purchased. Attendees may purchase a packet to share with others in their group (i.e.\, a choir director and accompanist may purchase one packet to share during the review).\nThe review will also be streamed via Facebook Live in the Day Murray Music Choral Review group. \n\nwww.facebook.com/groups/dmmchoralreviews\n\n\nPackets can also be mailed (postage and handling will apply). \n\nClick here to purchase a packet!\nSynopsis \n\nWe will sing through more than a dozen new and beloved Christmas choral anthems.\n\n  \nFeatured Music \nFeatured music will include SATB voicings arranged by Trevor Mann\, Cameron Rose\, John Rutter\, Molly Ijames\, and Brent Jorgensen.  (Due to availability or publishing delays\, titles are subject to change without notice.)  \n  \nParking  \nPlease park in the fenced-in lot on the west side of Day Murray Music (between The Ballet Center and Wells Fargo) or in the lot on the north side of The Ballet Center. (See the parking map on the reverse side.) \nDay Murray Music \n4914 S. State Street \nMurray\, Utah 84107 \n(801) 266-3537 \n  \nBy participating in the choral review\, you consent to be added to Day Murray Music’s email list.  \n  \nParking Map \n \n 
URL:https://www.daymurraymusic.com/event/friday-june-20-2025-summer-choral-review/
LOCATION:Day Murray Music Education House\, 4914 South State Street\, Murray\, UT\, 84107\, United States
ATTACH;FMTTYPE=image/png:https://www.daymurraymusic.com/wp-content/uploads/2025/05/Choral-Review-Photo-1x1-1.png
ORGANIZER;CN="Day%20Murray%20Music":MAILTO:daymurraymusic@gmail.com
END:VEVENT
BEGIN:VEVENT
DTSTART;TZID=America/Denver:20250621T103000
DTEND;TZID=America/Denver:20250621T120000
DTSTAMP:20260419T232229
CREATED:20250521T205528Z
LAST-MODIFIED:20250522T190851Z
UID:10542-1750501800-1750507200@www.daymurraymusic.com
SUMMARY:Saturday\, June 21\, 2025 - Summer Choral Review
DESCRIPTION:Day Murray Music presents \nSUMMER CHORAL REVIEW\nFeaturing Bonita Cross and Laurel Palmer!\nFriday\, June 20\, 2025  – 1:00 PM to 2:30 PM \nAND  \nSaturday\, June 21\, 2025 – 10:30 AM to 12:00 PM \n  \n  \nPrice \n\n$22 (plus tax) per packet \n\nRegular retail price: $40.00\nSavings over $18.00!\n\n\nTo participate in person\, a packet must be pre-purchased. Attendees may purchase a packet to share with others in their group (i.e.\, a choir director and accompanist may purchase one packet to share during the review).\nThe review will also be streamed via Facebook Live in the Day Murray Music Choral Review group. \n\nwww.facebook.com/groups/dmmchoralreviews\n\n\nPackets can also be mailed (postage and handling will apply). \n\nClick here to purchase a packet!\nSynopsis \n\nWe will sing through more than a dozen new and beloved Christmas choral anthems.\n\n  \nFeatured Music \nFeatured music will include SATB voicings arranged by Trevor Mann\, Cameron Rose\, John Rutter\, Molly Ijames\, and Brent Jorgensen.  (Due to availability or publishing delays\, titles are subject to change without notice.)  \n  \nParking  \nPlease park in the fenced-in lot on the west side of Day Murray Music (between The Ballet Center and Wells Fargo) or in the lot on the north side of The Ballet Center. (See the parking map on the reverse side.) \nDay Murray Music \n4914 S. State Street \nMurray\, Utah 84107 \n(801) 266-3537 \n  \nBy participating in the choral review\, you consent to be added to Day Murray Music’s email list.  \n  \nParking Map \n \n 
URL:https://www.daymurraymusic.com/event/saturday-june-21-2025-summer-choral-review/
LOCATION:Day Murray Music Education House\, 4914 South State Street\, Murray\, UT\, 84107\, United States
ATTACH;FMTTYPE=image/png:https://www.daymurraymusic.com/wp-content/uploads/2025/05/Choral-Review-Photo-1x1-1.png
ORGANIZER;CN="Day%20Murray%20Music":MAILTO:daymurraymusic@gmail.com
END:VEVENT
BEGIN:VEVENT
DTSTART;TZID=America/Denver:20250809T100000
DTEND;TZID=America/Denver:20250809T123000
DTSTAMP:20260419T232229
CREATED:20250709T185658Z
LAST-MODIFIED:20250709T185658Z
UID:10844-1754733600-1754742600@www.daymurraymusic.com
SUMMARY:KJOS - Free Piano Workshop W/ Paula Manwaring
DESCRIPTION:🎹 Paula Manwaring – Free Piano Workshop\n \n📅 When: August 9\, 2025\n🕙 Time: 10:30 AM – 12:30 PM (Registration at 10:00 AM)\n📍 Where: Day Murray Music\, 4914 S State St\, Murray\, UT\n✉️ RSVP: info@sheetmusicauthority.com | 801.266.3537 \nJoin renowned educator Paula Manwaring—creator of the Minimusic program—for a hands-on piano workshop designed for teachers of young beginners (ages 4–7). This free session introduces practical tools\, engaging theory games\, and curriculum strategies to support joyful\, foundational learning. \nPerfect for: \nNew and experienced piano teachers\nGroup lesson educators\nAnyone teaching early childhood music \n✅ Learn directly from the program’s creator\n✅ Discover time-saving theory methods\n✅ Network with fellow educators \nReserve your spot today!\nYou’ll leave inspired\, equipped\, and ready to elevate your studio.
URL:https://www.daymurraymusic.com/event/kjos-free-piano-workshop-w-paula-manwaring/
LOCATION:UT
ATTACH;FMTTYPE=image/jpeg:https://www.daymurraymusic.com/wp-content/uploads/2025/06/1209756.jpg
END:VEVENT
BEGIN:VEVENT
DTSTART;TZID=America/Denver:20251220T123000
DTEND;TZID=America/Denver:20251220T140000
DTSTAMP:20260419T232229
CREATED:20251216T220548Z
LAST-MODIFIED:20251216T220548Z
UID:11714-1766233800-1766239200@www.daymurraymusic.com
SUMMARY:🖋️Michael R. Hicks - 'Peace' Book Signing
DESCRIPTION:Come listen to Michael R. Hicks talk about and play selections from his new songbook Peace\nFeel free to stop by anytime from 12:30pm to 2:00pm on December 20th for the chance to meet him and get a book signed! \nWe have copies of Peace\, as well as Michael’s other books available for purchase
URL:https://www.daymurraymusic.com/event/%f0%9f%96%8b%ef%b8%8fmichael-r-hicks-peace-book-signing/
LOCATION:Day Murray Music Education House\, 4914 South State Street\, Murray\, UT\, 84107\, United States
CATEGORIES:Community Events
ATTACH;FMTTYPE=image/jpeg:https://www.daymurraymusic.com/wp-content/uploads/2025/12/Day-Murray-Hicks-12-13.jpg
END:VEVENT
BEGIN:VEVENT
DTSTART;TZID=America/Denver:20260130T101500
DTEND;TZID=America/Denver:20260130T121500
DTSTAMP:20260419T232229
CREATED:20251216T192713Z
LAST-MODIFIED:20251216T192713Z
UID:11706-1769768100-1769775300@www.daymurraymusic.com
SUMMARY:Singing Time Music Workshop\, By Barbara Gill
DESCRIPTION:January 30 or 31\, from 10:15am to 12:15pm at Day Murray Music\nWorkshop Synopsis:\nLearn techniques and tips from seasoned music leader and clinician Barbara Gill (BM\, MA\, NCTM) to make singing time simply magical and musical. \nIn-person or Facebook Live \nFor the Facebook Live Option:\nRegister with the same email you have linked to your facebook account. To view the workshop on Facebook Live\, please register before 10 pm the previous day. \nTo Purchase tickets\, please call the store at (801)266-3537\, or purchase a ticket in store!
URL:https://www.daymurraymusic.com/event/singing-time-music-workshop-by-barbara-gill-4/
LOCATION:Day Murray Music Education House\, 4914 South State Street\, Murray\, UT\, 84107\, United States
CATEGORIES:Workshops
ATTACH;FMTTYPE=image/jpeg:https://www.daymurraymusic.com/wp-content/uploads/2025/12/DayMurrayMusicWorkshopFlyer2025h-1.jpeg
END:VEVENT
BEGIN:VEVENT
DTSTART;TZID=America/Denver:20260131T101500
DTEND;TZID=America/Denver:20260131T121500
DTSTAMP:20260419T232229
CREATED:20251216T192625Z
LAST-MODIFIED:20251216T192625Z
UID:11634-1769854500-1769861700@www.daymurraymusic.com
SUMMARY:Singing Time Music Workshop\, By Barbara Gill
DESCRIPTION:January 30 or 31\, from 10:15am to 12:15pm at Day Murray Music\nWorkshop Synopsis:\nLearn techniques and tips from seasoned music leader and clinician Barbara Gill (BM\, MA\, NCTM) to make singing time simply magical and musical. \nIn-person or Facebook Live \nFor the Facebook Live Option:\nRegister with the same email you have linked to your facebook account. To view the workshop on Facebook Live\, please register before 10 pm the previous day. \nTo Purchase tickets\, please call the store at (801)266-3537\, or purchase a ticket in store!
URL:https://www.daymurraymusic.com/event/singing-time-music-workshop-by-barbara-gill-3/
LOCATION:Day Murray Music Education House\, 4914 South State Street\, Murray\, UT\, 84107\, United States
CATEGORIES:Workshops
ATTACH;FMTTYPE=image/jpeg:https://www.daymurraymusic.com/wp-content/uploads/2025/12/DayMurrayMusicWorkshopFlyer2025h-1.jpeg
END:VEVENT
BEGIN:VEVENT
DTSTART;TZID=America/Denver:20260217T190000
DTEND;TZID=America/Denver:20260217T210000
DTSTAMP:20260419T232229
CREATED:20251216T214943Z
LAST-MODIFIED:20251216T214943Z
UID:11708-1771354800-1771362000@www.daymurraymusic.com
SUMMARY:Concert & Cruises ft. Robert Poortinga
DESCRIPTION:🎹 Robert Poortinga – Free Piano Concert\n \n📅 When: February 17\, 2026\n🕙 Time: 7pm (doors open at 6:30pm) *RSVP Required*\n📍 Where: Day Murray Music\, 4914 S State St\, Murray\, UT\n✉️ RSVP: Fill out this form to RSVP! \nDiscover how music and travel intertwine!\nConcert & Cruises brings you an evening of European piano music\, travel inspiration\, and exclusive cruise updates\, featuring Viking’s Business Development Director and DeSalvio Travel\, a Virtuoso agency. Complimentary admission and special travel perks await our guests.
URL:https://www.daymurraymusic.com/event/concert-cruises-ft-robert-poortinga/
LOCATION:Day Murray Music Education House\, 4914 South State Street\, Murray\, UT\, 84107\, United States
CATEGORIES:Concerts
ATTACH;FMTTYPE=image/png:https://www.daymurraymusic.com/wp-content/uploads/2025/12/Concert-Cruises-Poster-SLC-Event.png
END:VEVENT
END:VCALENDAR